BEGIN:VCALENDAR
PRODID:-//Compnay Inc//Product Application//EN
VERSION:2.0
METHOD:PUBLISH
BEGIN:VEVENT
DTSTART:20260822T220000Z
DTEND:20260823T215900Z
DTSTAMP:20260420T185045Z
UID:6d4ab277-2486-4803-963d-121a60f1a7a8
CREATED:20260420T185045Z
DESCRIPTION:https://www.oldtimerweb.be/oldtimer-evenementen/hartjesrit-20_19813.aspx
LAST-MODIFIED:20260420T185045Z
LOCATION:Hofstraat 7\, 9200 Oudegem\, BE
SEQUENCE:0
STATUS:CONFIRMED
SUMMARY:Hartjesrit 2.0
TRANSP:OPAQUE
END:VEVENT
END:VCALENDAR
