BEGIN:VCALENDAR
PRODID:-//Compnay Inc//Product Application//EN
VERSION:2.0
METHOD:PUBLISH
BEGIN:VEVENT
DTSTART:20260513T220000Z
DTEND:20260515T215900Z
DTSTAMP:20260420T231457Z
UID:60fdefcb-e5d0-41d3-8f05-174e38d93e04
CREATED:20260420T231457Z
DESCRIPTION:https://www.oldtimerweb.be/oldtimer-evenementen/route-des-etoiles_19796.aspx
LAST-MODIFIED:20260420T231457Z
LOCATION:Vieux Chemin de Wavre 50\, 1380 Lasne\, BE
SEQUENCE:0
STATUS:CONFIRMED
SUMMARY:Route des Étoiles
TRANSP:OPAQUE
END:VEVENT
END:VCALENDAR
