BEGIN:VCALENDAR
PRODID:-//Compnay Inc//Product Application//EN
VERSION:2.0
METHOD:PUBLISH
BEGIN:VEVENT
DTSTART:20191125T230000Z
DTEND:20191126T225900Z
DTSTAMP:20260419T115123Z
UID:fe55174b-f825-46fe-a143-ad790215b13f
CREATED:20260419T115123Z
DESCRIPTION:https://www.oldtimerweb.be/oldtimer-evenementen/cars-coffee-more_13168.aspx
LAST-MODIFIED:20260419T115123Z
LOCATION:Bushagen 33\, 2460 Kasterlee\, BE
SEQUENCE:0
STATUS:CONFIRMED
SUMMARY:Cars, Coffee & More
TRANSP:OPAQUE
END:VEVENT
END:VCALENDAR
