BEGIN:VCALENDAR
PRODID:-//Compnay Inc//Product Application//EN
VERSION:2.0
METHOD:PUBLISH
BEGIN:VEVENT
DTSTART:20191005T220000Z
DTEND:20191006T215900Z
DTSTAMP:20260419T114035Z
UID:9da5757b-f215-4d93-a9d9-ac714ef66821
CREATED:20260419T114035Z
DESCRIPTION:https://www.oldtimerweb.be/oldtimer-evenementen/ladies-run_13012.aspx
LAST-MODIFIED:20260419T114035Z
LOCATION:Koestraat 63\, 8940 Wervik\, BE
SEQUENCE:0
STATUS:CONFIRMED
SUMMARY:Ladies Run
TRANSP:OPAQUE
END:VEVENT
END:VCALENDAR
