BEGIN:VCALENDAR
PRODID:-//Compnay Inc//Product Application//EN
VERSION:2.0
METHOD:PUBLISH
BEGIN:VEVENT
DTSTART:20190914T220000Z
DTEND:20190915T215900Z
DTSTAMP:20260419T115123Z
UID:4f65cca3-6236-4f33-bd25-ddc092a08f13
CREATED:20260419T115123Z
DESCRIPTION:https://www.oldtimerweb.be/oldtimer-evenementen/usa-cars-sunday-vol-2_12894.aspx
LAST-MODIFIED:20260419T115123Z
LOCATION:Nieuwe Kaai 30\, 2300 Turnhout\, BE
SEQUENCE:0
STATUS:CONFIRMED
SUMMARY:USA cars Sunday vol 2
TRANSP:OPAQUE
END:VEVENT
END:VCALENDAR
