BEGIN:VCALENDAR
PRODID:-//Compnay Inc//Product Application//EN
VERSION:2.0
METHOD:PUBLISH
BEGIN:VEVENT
DTSTART:20190921T220000Z
DTEND:20190922T215900Z
DTSTAMP:20260419T155315Z
UID:c1b98f41-690e-49c9-9c57-ecfce1f9e84f
CREATED:20260419T155315Z
DESCRIPTION:https://www.oldtimerweb.be/oldtimer-evenementen/super-oldies-rit-by-kathy-en-christ_12847.aspx
LAST-MODIFIED:20260419T155315Z
LOCATION:Heilig Kruisplein 10\, 9040 Sint-Amandsberg\, BE
SEQUENCE:0
STATUS:CONFIRMED
SUMMARY:Super Oldies-rit by Kathy en Christ
TRANSP:OPAQUE
END:VEVENT
END:VCALENDAR
