BEGIN:VCALENDAR
PRODID:-//Compnay Inc//Product Application//EN
VERSION:2.0
METHOD:PUBLISH
BEGIN:VEVENT
DTSTART:20190817T220000Z
DTEND:20190818T215900Z
DTSTAMP:20260419T114936Z
UID:45b5e025-409d-4c8c-be2b-091e06da50ba
CREATED:20260419T114936Z
DESCRIPTION:https://www.oldtimerweb.be/oldtimer-evenementen/zomerrit-by-martine-en-chris-cattoir_12838.aspx
LAST-MODIFIED:20260419T114936Z
LOCATION:Dendermondsesteenweg 228\, 9070 Destelbergen\, BE
SEQUENCE:0
STATUS:CONFIRMED
SUMMARY:Zomerrit by Martine en Chris Cattoir
TRANSP:OPAQUE
END:VEVENT
END:VCALENDAR
