BEGIN:VCALENDAR
PRODID:-//Compnay Inc//Product Application//EN
VERSION:2.0
METHOD:PUBLISH
BEGIN:VEVENT
DTSTART:20190803T220000Z
DTEND:20190804T215900Z
DTSTAMP:20260419T114529Z
UID:1f68a7c1-b89f-4d33-b6fa-e954ed2180f8
CREATED:20260419T114529Z
DESCRIPTION:https://www.oldtimerweb.be/oldtimer-evenementen/benefietrit-het-dierenthuisje_12773.aspx
LAST-MODIFIED:20260419T114529Z
LOCATION:Rendersvensedijk 4\, 2440 Geel\, BE
SEQUENCE:0
STATUS:CONFIRMED
SUMMARY:Benefietrit Het dierenthuisje
TRANSP:OPAQUE
END:VEVENT
END:VCALENDAR
