BEGIN:VCALENDAR
PRODID:-//Compnay Inc//Product Application//EN
VERSION:2.0
METHOD:PUBLISH
BEGIN:VEVENT
DTSTART:20190803T220000Z
DTEND:20190804T215900Z
DTSTAMP:20260421T113547Z
UID:c78d94b8-e7e3-4b23-8759-77f9702c8026
CREATED:20260421T113547Z
DESCRIPTION:https://www.oldtimerweb.be/oldtimer-evenementen/picknickrit-oude-glorien_12751.aspx
LAST-MODIFIED:20260421T113547Z
LOCATION:Vliegtuiglaan 12\, 9000 Gent\, BE
SEQUENCE:0
STATUS:CONFIRMED
SUMMARY:Picknickrit Oude Gloriën
TRANSP:OPAQUE
END:VEVENT
END:VCALENDAR
