BEGIN:VCALENDAR
PRODID:-//Compnay Inc//Product Application//EN
VERSION:2.0
METHOD:PUBLISH
BEGIN:VEVENT
DTSTART:20190618T220000Z
DTEND:20190619T215900Z
DTSTAMP:20260419T115142Z
UID:650c8dec-9a18-4b52-9897-e5cdb468196c
CREATED:20260419T115142Z
DESCRIPTION:https://www.oldtimerweb.be/oldtimer-evenementen/the-boys-bergom-classic-summer-tour_12629.aspx
LAST-MODIFIED:20260419T115142Z
LOCATION:Hoge Dreef 1\, 2230 Herselt\, BE
SEQUENCE:0
STATUS:CONFIRMED
SUMMARY:The BOYS Bergom Classic Summer Tour
TRANSP:OPAQUE
END:VEVENT
END:VCALENDAR
