BEGIN:VCALENDAR
PRODID:-//Compnay Inc//Product Application//EN
VERSION:2.0
METHOD:PUBLISH
BEGIN:VEVENT
DTSTART:20190622T220000Z
DTEND:20190623T215900Z
DTSTAMP:20260419T114934Z
UID:d63a8bad-43f3-44d4-8f2c-548ca921bac0
CREATED:20260419T114934Z
DESCRIPTION:https://www.oldtimerweb.be/oldtimer-evenementen/oldtimerrit-2strokes-serskamp_12628.aspx
LAST-MODIFIED:20260419T114934Z
LOCATION:Dorpstraat 48\, 9260 Serskamp\, BE
SEQUENCE:0
STATUS:CONFIRMED
SUMMARY:Oldtimerrit 2Strokes Serskamp
TRANSP:OPAQUE
END:VEVENT
END:VCALENDAR
