BEGIN:VCALENDAR
PRODID:-//Compnay Inc//Product Application//EN
VERSION:2.0
METHOD:PUBLISH
BEGIN:VEVENT
DTSTART:20190629T220000Z
DTEND:20190630T215900Z
DTSTAMP:20260419T114204Z
UID:df19bfb5-2728-4be7-99ef-1bd8728b46c3
CREATED:20260419T114204Z
DESCRIPTION:https://www.oldtimerweb.be/oldtimer-evenementen/bugs-and-friends_12586.aspx
LAST-MODIFIED:20260419T114204Z
LOCATION:Corbiestraat\, 2400 Mol\, BE
SEQUENCE:0
STATUS:CONFIRMED
SUMMARY:Bugs and Friends
TRANSP:OPAQUE
END:VEVENT
END:VCALENDAR
