BEGIN:VCALENDAR
PRODID:-//Compnay Inc//Product Application//EN
VERSION:2.0
METHOD:PUBLISH
BEGIN:VEVENT
DTSTART:20190601T220000Z
DTEND:20190602T215900Z
DTSTAMP:20260419T115957Z
UID:9e00b9cf-9272-414e-806b-f1a2cc4c4eab
CREATED:20260419T115957Z
DESCRIPTION:https://www.oldtimerweb.be/oldtimer-evenementen/kroonrit_12527.aspx
LAST-MODIFIED:20260419T115957Z
LOCATION:Voormezeledorp 36\, 8908 Voormezele\, BE
SEQUENCE:0
STATUS:CONFIRMED
SUMMARY:Kroonrit
TRANSP:OPAQUE
END:VEVENT
END:VCALENDAR
