BEGIN:VCALENDAR
PRODID:-//Compnay Inc//Product Application//EN
VERSION:2.0
METHOD:PUBLISH
BEGIN:VEVENT
DTSTART:20190713T220000Z
DTEND:20190714T215900Z
DTSTAMP:20260419T114529Z
UID:1f121a95-60c8-44d7-a465-ca9c5c045710
CREATED:20260419T114529Z
DESCRIPTION:https://www.oldtimerweb.be/oldtimer-evenementen/9e-oldtimertreffen-de-tijd-van-toen_12478.aspx
LAST-MODIFIED:20260419T114529Z
LOCATION:Gellenberg 16\, 3210 Lubbeek\, BE
SEQUENCE:0
STATUS:CONFIRMED
SUMMARY:9e Oldtimertreffen "De Tijd van Toen"
TRANSP:OPAQUE
END:VEVENT
END:VCALENDAR
