BEGIN:VCALENDAR
PRODID:-//Compnay Inc//Product Application//EN
VERSION:2.0
METHOD:PUBLISH
BEGIN:VEVENT
DTSTART:20190511T220000Z
DTEND:20190512T215900Z
DTSTAMP:20260419T162029Z
UID:113f6807-2177-4f1d-93d0-036935b64ff9
CREATED:20260419T162029Z
DESCRIPTION:https://www.oldtimerweb.be/oldtimer-evenementen/gosep-classic-rit_12413.aspx
LAST-MODIFIED:20260419T162029Z
LOCATION:Hoekeinde 28\, 2330 Merksplas\, BE
SEQUENCE:0
STATUS:CONFIRMED
SUMMARY:Gosep Classic Rit
TRANSP:OPAQUE
END:VEVENT
END:VCALENDAR
