BEGIN:VCALENDAR
PRODID:-//Compnay Inc//Product Application//EN
VERSION:2.0
METHOD:PUBLISH
BEGIN:VEVENT
DTSTART:20190503T220000Z
DTEND:20190616T215900Z
DTSTAMP:20260419T115613Z
UID:4c968a57-cfa8-45ed-9225-056852ef95d2
CREATED:20260419T115613Z
DESCRIPTION:https://www.oldtimerweb.be/oldtimer-evenementen/bentley-100-years-in-the-spotlight_12391.aspx
LAST-MODIFIED:20260419T115613Z
LOCATION:Jubelpark 11\, 1000 Brussel\, BE
SEQUENCE:0
STATUS:CONFIRMED
SUMMARY:Bentley 100 Years ... in the Spotlight
TRANSP:OPAQUE
END:VEVENT
END:VCALENDAR
