BEGIN:VCALENDAR
PRODID:-//Compnay Inc//Product Application//EN
VERSION:2.0
METHOD:PUBLISH
BEGIN:VEVENT
DTSTART:20190530T220000Z
DTEND:20190531T215900Z
DTSTAMP:20260419T120144Z
UID:e2ea891e-674f-4db1-8e2b-e031f4f0be9f
CREATED:20260419T120144Z
DESCRIPTION:https://www.oldtimerweb.be/oldtimer-evenementen/drive-in-cinema_12390.aspx
LAST-MODIFIED:20260419T120144Z
LOCATION:Dorpsstraat 34\, 3545 Halen\, BE
SEQUENCE:0
STATUS:CONFIRMED
SUMMARY:Drive In Cinéma
TRANSP:OPAQUE
END:VEVENT
END:VCALENDAR
