BEGIN:VCALENDAR
PRODID:-//Compnay Inc//Product Application//EN
VERSION:2.0
METHOD:PUBLISH
BEGIN:VEVENT
DTSTART:20190628T220000Z
DTEND:20190629T215900Z
DTSTAMP:20260419T115957Z
UID:e11b67fd-b200-4020-94a7-a61adadaaabb
CREATED:20260419T115957Z
DESCRIPTION:https://www.oldtimerweb.be/oldtimer-evenementen/oldtimer-meeting-passion-and-cars_12373.aspx
LAST-MODIFIED:20260419T115957Z
LOCATION:Stationsstraat 64\, 1745 Opwijk\, BE
SEQUENCE:0
STATUS:CONFIRMED
SUMMARY:Oldtimer meeting Passion And Cars
TRANSP:OPAQUE
END:VEVENT
END:VCALENDAR
