BEGIN:VCALENDAR
PRODID:-//Compnay Inc//Product Application//EN
VERSION:2.0
METHOD:PUBLISH
BEGIN:VEVENT
DTSTART:20190601T220000Z
DTEND:20190602T215900Z
DTSTAMP:20260419T114034Z
UID:9496ca73-f8d3-4c24-beba-b02ca03c4531
CREATED:20260419T114034Z
DESCRIPTION:https://www.oldtimerweb.be/oldtimer-evenementen/cars-and-delicious-burgers_12334.aspx
LAST-MODIFIED:20260419T114034Z
LOCATION:1910 Kampenhout\, BE
SEQUENCE:0
STATUS:CONFIRMED
SUMMARY:Cars and Delicious Burgers
TRANSP:OPAQUE
END:VEVENT
END:VCALENDAR
