BEGIN:VCALENDAR
PRODID:-//Compnay Inc//Product Application//EN
VERSION:2.0
METHOD:PUBLISH
BEGIN:VEVENT
DTSTART:20190608T220000Z
DTEND:20190609T215900Z
DTSTAMP:20260419T114934Z
UID:d9286de6-1849-42c6-a2c3-15227f7cec09
CREATED:20260419T114934Z
DESCRIPTION:https://www.oldtimerweb.be/oldtimer-evenementen/retro-6-uren-van-leuven_12289.aspx
LAST-MODIFIED:20260419T114934Z
LOCATION:Speelpleinstraat 1\, 3360 Bierbeek\, BE
SEQUENCE:0
STATUS:CONFIRMED
SUMMARY:Retro 6 Uren van Leuven
TRANSP:OPAQUE
END:VEVENT
END:VCALENDAR
