BEGIN:VCALENDAR
PRODID:-//Compnay Inc//Product Application//EN
VERSION:2.0
METHOD:PUBLISH
BEGIN:VEVENT
DTSTART:20190727T220000Z
DTEND:20190728T215900Z
DTSTAMP:20260419T115142Z
UID:cb7e7ca8-f095-47bd-8ab9-8755fc744a98
CREATED:20260419T115142Z
DESCRIPTION:https://www.oldtimerweb.be/oldtimer-evenementen/3de-oldtimermeeting-attenrode-kermis_12284.aspx
LAST-MODIFIED:20260419T115142Z
LOCATION:Doelaagstraat 4\, 3384 Attenrode\, BE
SEQUENCE:0
STATUS:CONFIRMED
SUMMARY:3de Oldtimermeeting Attenrode Kermis
TRANSP:OPAQUE
END:VEVENT
END:VCALENDAR
