BEGIN:VCALENDAR
PRODID:-//Compnay Inc//Product Application//EN
VERSION:2.0
METHOD:PUBLISH
BEGIN:VEVENT
DTSTART:20190426T220000Z
DTEND:20190427T215900Z
DTSTAMP:20260419T120146Z
UID:ff06050d-22fd-40aa-8f0d-77c49ea72289
CREATED:20260419T120146Z
DESCRIPTION:https://www.oldtimerweb.be/oldtimer-evenementen/meat-greet-pitstop-emblem_12211.aspx
LAST-MODIFIED:20260419T120146Z
LOCATION:Oostmalsesteenweg 92a\, 2520 Ranst\, BE
SEQUENCE:0
STATUS:CONFIRMED
SUMMARY:Meat & Greet @ pitstop Emblem
TRANSP:OPAQUE
END:VEVENT
END:VCALENDAR
