BEGIN:VCALENDAR
PRODID:-//Compnay Inc//Product Application//EN
VERSION:2.0
METHOD:PUBLISH
BEGIN:VEVENT
DTSTART:20190831T220000Z
DTEND:20190901T215900Z
DTSTAMP:20260419T115836Z
UID:030974a9-984a-467a-8903-973ed5daceba
CREATED:20260419T115836Z
DESCRIPTION:https://www.oldtimerweb.be/oldtimer-evenementen/10e-keikopoldiesrit_12143.aspx
LAST-MODIFIED:20260419T115836Z
LOCATION:Deken De Bolaan 97\, 8970 Poperinge\, BE
SEQUENCE:0
STATUS:CONFIRMED
SUMMARY:10e Keikop*Oldiesrit
TRANSP:OPAQUE
END:VEVENT
END:VCALENDAR
