BEGIN:VCALENDAR
PRODID:-//Compnay Inc//Product Application//EN
VERSION:2.0
METHOD:PUBLISH
BEGIN:VEVENT
DTSTART:20190430T220000Z
DTEND:20190501T215900Z
DTSTAMP:20260419T114834Z
UID:e1a6cbd3-5619-4be7-8397-9d9688cfa215
CREATED:20260419T114834Z
DESCRIPTION:https://www.oldtimerweb.be/oldtimer-evenementen/de-bossen-van-vlaanderen_12138.aspx
LAST-MODIFIED:20260419T114834Z
LOCATION:Koolskampstraat 105\, 8810 Lichtervelde\, BE
SEQUENCE:0
STATUS:CONFIRMED
SUMMARY:De Bossen van Vlaanderen
TRANSP:OPAQUE
END:VEVENT
END:VCALENDAR
