BEGIN:VCALENDAR
PRODID:-//Compnay Inc//Product Application//EN
VERSION:2.0
METHOD:PUBLISH
BEGIN:VEVENT
DTSTART:20190413T220000Z
DTEND:20190414T215900Z
DTSTAMP:20260419T115715Z
UID:8f6d7456-430f-4596-95c5-cfa20a132bf0
CREATED:20260419T115715Z
DESCRIPTION:https://www.oldtimerweb.be/oldtimer-evenementen/de-mm-rit_12096.aspx
LAST-MODIFIED:20260419T115715Z
LOCATION:Genitsstraat 68\, 3670 Oudsbergen\, BE
SEQUENCE:0
STATUS:CONFIRMED
SUMMARY:de M&M rit
TRANSP:OPAQUE
END:VEVENT
END:VCALENDAR
