BEGIN:VCALENDAR
PRODID:-//Compnay Inc//Product Application//EN
VERSION:2.0
METHOD:PUBLISH
BEGIN:VEVENT
DTSTART:20190524T220000Z
DTEND:20190525T215900Z
DTSTAMP:20260419T115715Z
UID:692c82e4-af77-4bdd-a13f-7a3c1a38b152
CREATED:20260419T115715Z
DESCRIPTION:https://www.oldtimerweb.be/oldtimer-evenementen/xclusive-cars-and-coffee_12085.aspx
LAST-MODIFIED:20260419T115715Z
LOCATION:Wijnegemsteenweg 193\, 2970 Schilde\, BE
SEQUENCE:0
STATUS:CONFIRMED
SUMMARY:Xclusive Cars and Coffee
TRANSP:OPAQUE
END:VEVENT
END:VCALENDAR
