BEGIN:VCALENDAR
PRODID:-//Compnay Inc//Product Application//EN
VERSION:2.0
METHOD:PUBLISH
BEGIN:VEVENT
DTSTART:20190409T220000Z
DTEND:20190410T215900Z
DTSTAMP:20260419T115609Z
UID:ecf4ad64-7e1c-433f-a9d3-d89e9e85a708
CREATED:20260419T115609Z
DESCRIPTION:https://www.oldtimerweb.be/oldtimer-evenementen/the-boys-classic-meet-greet_12073.aspx
LAST-MODIFIED:20260419T115609Z
LOCATION:Hoge Dreef 1\, 2230 Herselt\, BE
SEQUENCE:0
STATUS:CONFIRMED
SUMMARY:The BOYS classic meet & greet
TRANSP:OPAQUE
END:VEVENT
END:VCALENDAR
