BEGIN:VCALENDAR
PRODID:-//Compnay Inc//Product Application//EN
VERSION:2.0
METHOD:PUBLISH
BEGIN:VEVENT
DTSTART:20190330T230000Z
DTEND:20190331T215900Z
DTSTAMP:20260419T115800Z
UID:dd07e4be-0ac9-4101-ac55-2b27d1212162
CREATED:20260419T115800Z
DESCRIPTION:https://www.oldtimerweb.be/oldtimer-evenementen/1ste-oldtimer-coffee-oldtimerfarm_12054.aspx
LAST-MODIFIED:20260419T115800Z
LOCATION:Steenweg op Deinze 51C\, 9880 Aalter\, BE
SEQUENCE:0
STATUS:CONFIRMED
SUMMARY:1ste Oldtimer & Coffee @ Oldtimerfarm
TRANSP:OPAQUE
END:VEVENT
END:VCALENDAR
