BEGIN:VCALENDAR
PRODID:-//Compnay Inc//Product Application//EN
VERSION:2.0
METHOD:PUBLISH
BEGIN:VEVENT
DTSTART:20190823T220000Z
DTEND:20190824T215900Z
DTSTAMP:20260419T120144Z
UID:9eff2a2e-6585-44b3-bb2c-6d591d7fcfcb
CREATED:20260419T120144Z
DESCRIPTION:https://www.oldtimerweb.be/oldtimer-evenementen/3e-porsche-classic-coast-tour-concours_12024.aspx
LAST-MODIFIED:20260419T120144Z
LOCATION:Parkdomein La Potinière\, Clementinalaan\, 8420 De Haan\, BE
SEQUENCE:0
STATUS:CONFIRMED
SUMMARY:3e Porsche Classic Coast Tour & Concours
TRANSP:OPAQUE
END:VEVENT
END:VCALENDAR
