BEGIN:VCALENDAR
PRODID:-//Compnay Inc//Product Application//EN
VERSION:2.0
METHOD:PUBLISH
BEGIN:VEVENT
DTSTART:20190814T220000Z
DTEND:20190815T215900Z
DTSTAMP:20260419T114036Z
UID:1d355e63-3185-4319-a171-4580d00ecac3
CREATED:20260419T114036Z
DESCRIPTION:https://www.oldtimerweb.be/oldtimer-evenementen/maneblusser-classic-makhcc_11933.aspx
LAST-MODIFIED:20260419T114036Z
LOCATION:Grote Markt\, 2800 Mechelen\, BE
SEQUENCE:0
STATUS:CONFIRMED
SUMMARY:Maneblusser Classic Makhcc
TRANSP:OPAQUE
END:VEVENT
END:VCALENDAR
