BEGIN:VCALENDAR
PRODID:-//Compnay Inc//Product Application//EN
VERSION:2.0
METHOD:PUBLISH
BEGIN:VEVENT
DTSTART:20190405T220000Z
DTEND:20190406T215900Z
DTSTAMP:20260419T115800Z
UID:92cf03f5-d8ad-403e-944a-fbf0437f5490
CREATED:20260419T115800Z
DESCRIPTION:https://www.oldtimerweb.be/oldtimer-evenementen/opendeur-2cvmehari-factory_11860.aspx
LAST-MODIFIED:20260419T115800Z
LOCATION:Wulmersumsesteenweg 155\, 3300 Tienen\, BE
SEQUENCE:0
STATUS:CONFIRMED
SUMMARY:Opendeur 2cvMehari Factory
TRANSP:OPAQUE
END:VEVENT
END:VCALENDAR
