BEGIN:VCALENDAR
PRODID:-//Compnay Inc//Product Application//EN
VERSION:2.0
METHOD:PUBLISH
BEGIN:VEVENT
DTSTART:20190421T220000Z
DTEND:20190422T215900Z
DTSTAMP:20260419T115124Z
UID:2f981ab2-26aa-4d28-84a1-670a303a8c5c
CREATED:20260419T115124Z
DESCRIPTION:https://www.oldtimerweb.be/oldtimer-evenementen/oldtimermeeting-gulden-eifeesten_11835.aspx
LAST-MODIFIED:20260419T115124Z
LOCATION:Markt 1\, 9770 Kruishoutem\, BE
SEQUENCE:0
STATUS:CONFIRMED
SUMMARY:Oldtimermeeting Gulden Eifeesten
TRANSP:OPAQUE
END:VEVENT
END:VCALENDAR
