BEGIN:VCALENDAR
PRODID:-//Compnay Inc//Product Application//EN
VERSION:2.0
METHOD:PUBLISH
BEGIN:VEVENT
DTSTART:20190609T220000Z
DTEND:20190610T215900Z
DTSTAMP:20260419T120324Z
UID:339f4d23-c5ae-4e91-8b12-b73328943b3e
CREATED:20260419T120324Z
DESCRIPTION:https://www.oldtimerweb.be/oldtimer-evenementen/4-poppiesrit_11783.aspx
LAST-MODIFIED:20260419T120324Z
LOCATION:Markt\, 8980 Geluveld\, BE
SEQUENCE:0
STATUS:CONFIRMED
SUMMARY:4° Poppiesrit
TRANSP:OPAQUE
END:VEVENT
END:VCALENDAR
