BEGIN:VCALENDAR
PRODID:-//Compnay Inc//Product Application//EN
VERSION:2.0
METHOD:PUBLISH
BEGIN:VEVENT
DTSTART:20190503T220000Z
DTEND:20190504T215900Z
DTSTAMP:20260419T114034Z
UID:9050823e-ae22-40c5-9c5d-e498f944fd38
CREATED:20260419T114034Z
DESCRIPTION:https://www.oldtimerweb.be/oldtimer-evenementen/2eme-balade-michel-francois_11779.aspx
LAST-MODIFIED:20260419T114034Z
LOCATION:Rue de l'Esplanade 50\, 4141 Banneux\, BE
SEQUENCE:0
STATUS:CONFIRMED
SUMMARY:2ème Balade Michel Francois
TRANSP:OPAQUE
END:VEVENT
END:VCALENDAR
