BEGIN:VCALENDAR
PRODID:-//Compnay Inc//Product Application//EN
VERSION:2.0
METHOD:PUBLISH
BEGIN:VEVENT
DTSTART:20190914T220000Z
DTEND:20190915T215900Z
DTSTAMP:20260419T115142Z
UID:77183500-db0d-40e0-87bd-431876b505a7
CREATED:20260419T115142Z
DESCRIPTION:https://www.oldtimerweb.be/oldtimer-evenementen/aperitiefmeeting_11561.aspx
LAST-MODIFIED:20260419T115142Z
LOCATION:Emelgemse Plein\, 8870 Izegem\, BE
SEQUENCE:0
STATUS:CONFIRMED
SUMMARY:Aperitiefmeeting
TRANSP:OPAQUE
END:VEVENT
END:VCALENDAR
