BEGIN:VCALENDAR
PRODID:-//Compnay Inc//Product Application//EN
VERSION:2.0
METHOD:PUBLISH
BEGIN:VEVENT
DTSTART:20190119T230000Z
DTEND:20190120T225900Z
DTSTAMP:20260419T115717Z
UID:fd28c4f6-ef3f-4db0-b425-d4f49e409f61
CREATED:20260419T115717Z
DESCRIPTION:https://www.oldtimerweb.be/oldtimer-evenementen/aperitiefmeeting_11555.aspx
LAST-MODIFIED:20260419T115717Z
LOCATION:Emelgemse Plein\, 8870 Izegem\, BE
SEQUENCE:0
STATUS:CONFIRMED
SUMMARY:Aperitiefmeeting
TRANSP:OPAQUE
END:VEVENT
END:VCALENDAR
