BEGIN:VCALENDAR
PRODID:-//Compnay Inc//Product Application//EN
VERSION:2.0
METHOD:PUBLISH
BEGIN:VEVENT
DTSTART:20190509T220000Z
DTEND:20190510T215900Z
DTSTAMP:20260419T115615Z
UID:7df2e8ae-8b14-4f69-b73a-09628361217f
CREATED:20260419T115615Z
DESCRIPTION:https://www.oldtimerweb.be/oldtimer-evenementen/classic-car-meeting-bocholt_11466.aspx
LAST-MODIFIED:20260419T115615Z
LOCATION:Kerkplein\, 3950 Bocholt\, BE
SEQUENCE:0
STATUS:CONFIRMED
SUMMARY:Classic Car Meeting Bocholt
TRANSP:OPAQUE
END:VEVENT
END:VCALENDAR
