BEGIN:VCALENDAR
PRODID:-//Compnay Inc//Product Application//EN
VERSION:2.0
METHOD:PUBLISH
BEGIN:VEVENT
DTSTART:20190803T220000Z
DTEND:20190804T215900Z
DTSTAMP:20260419T114530Z
UID:44fc0af3-e9a1-4d76-bd7c-0b369c00797d
CREATED:20260419T114530Z
DESCRIPTION:https://www.oldtimerweb.be/oldtimer-evenementen/oldtimer-rit-de-lindekens-gransveldekermis_11307.aspx
LAST-MODIFIED:20260419T114530Z
LOCATION:Zavelstraat 58\, 9230 Wetteren\, BE
SEQUENCE:0
STATUS:CONFIRMED
SUMMARY:Oldtimer rit De Lindekens Gransveldekermis
TRANSP:OPAQUE
END:VEVENT
END:VCALENDAR
